BEGIN:VCALENDAR
VERSION:2.0
PRODID:-//Riedschule - ECPv6.15.17.1//NONSGML v1.0//EN
CALSCALE:GREGORIAN
METHOD:PUBLISH
X-WR-CALNAME:Riedschule
X-ORIGINAL-URL:https://www.riedschule-karlsruhe.de
X-WR-CALDESC:Veranstaltungen für Riedschule
REFRESH-INTERVAL;VALUE=DURATION:PT1H
X-Robots-Tag:noindex
X-PUBLISHED-TTL:PT1H
BEGIN:VTIMEZONE
TZID:Europe/Berlin
BEGIN:DAYLIGHT
TZOFFSETFROM:+0100
TZOFFSETTO:+0200
TZNAME:CEST
DTSTART:20250330T010000
END:DAYLIGHT
BEGIN:STANDARD
TZOFFSETFROM:+0200
TZOFFSETTO:+0100
TZNAME:CET
DTSTART:20251026T010000
END:STANDARD
BEGIN:DAYLIGHT
TZOFFSETFROM:+0100
TZOFFSETTO:+0200
TZNAME:CEST
DTSTART:20260329T010000
END:DAYLIGHT
BEGIN:STANDARD
TZOFFSETFROM:+0200
TZOFFSETTO:+0100
TZNAME:CET
DTSTART:20261025T010000
END:STANDARD
BEGIN:DAYLIGHT
TZOFFSETFROM:+0100
TZOFFSETTO:+0200
TZNAME:CEST
DTSTART:20270328T010000
END:DAYLIGHT
BEGIN:STANDARD
TZOFFSETFROM:+0200
TZOFFSETTO:+0100
TZNAME:CET
DTSTART:20271031T010000
END:STANDARD
END:VTIMEZONE
BEGIN:VEVENT
DTSTART;VALUE=DATE:20260730
DTEND;VALUE=DATE:20260914
DTSTAMP:20260424T174045
CREATED:20260323T091308Z
LAST-MODIFIED:20260323T091308Z
UID:5917-1785369600-1789343999@www.riedschule-karlsruhe.de
SUMMARY:Sommerferien
DESCRIPTION:
URL:https://www.riedschule-karlsruhe.de/termin/sommerferien-13/
CATEGORIES:Ferien/Unterrichtsfrei
END:VEVENT
BEGIN:VEVENT
DTSTART;TZID=Europe/Berlin:20260914T083500
DTEND;TZID=Europe/Berlin:20260914T122000
DTSTAMP:20260424T174045
CREATED:20260323T104928Z
LAST-MODIFIED:20260323T104928Z
UID:6046-1789374900-1789388400@www.riedschule-karlsruhe.de
SUMMARY:1. Schultag
DESCRIPTION:
URL:https://www.riedschule-karlsruhe.de/termin/1-schultag-3/
CATEGORIES:Schüler
END:VEVENT
BEGIN:VEVENT
DTSTART;TZID=Europe/Berlin:20260916T140000
DTEND;TZID=Europe/Berlin:20260916T170000
DTSTAMP:20260424T174045
CREATED:20260323T105005Z
LAST-MODIFIED:20260323T105005Z
UID:6048-1789567200-1789578000@www.riedschule-karlsruhe.de
SUMMARY:Einschulung
DESCRIPTION:
URL:https://www.riedschule-karlsruhe.de/termin/einschulung-3/
CATEGORIES:Schüler
END:VEVENT
END:VCALENDAR