BEGIN:VCALENDAR
VERSION:2.0
PRODID:-//Riedschule - ECPv6.15.17.1//NONSGML v1.0//EN
CALSCALE:GREGORIAN
METHOD:PUBLISH
X-WR-CALNAME:Riedschule
X-ORIGINAL-URL:https://www.riedschule-karlsruhe.de
X-WR-CALDESC:Veranstaltungen für Riedschule
REFRESH-INTERVAL;VALUE=DURATION:PT1H
X-Robots-Tag:noindex
X-PUBLISHED-TTL:PT1H
BEGIN:VTIMEZONE
TZID:Europe/Berlin
BEGIN:DAYLIGHT
TZOFFSETFROM:+0100
TZOFFSETTO:+0200
TZNAME:CEST
DTSTART:20250330T010000
END:DAYLIGHT
BEGIN:STANDARD
TZOFFSETFROM:+0200
TZOFFSETTO:+0100
TZNAME:CET
DTSTART:20251026T010000
END:STANDARD
BEGIN:DAYLIGHT
TZOFFSETFROM:+0100
TZOFFSETTO:+0200
TZNAME:CEST
DTSTART:20260329T010000
END:DAYLIGHT
BEGIN:STANDARD
TZOFFSETFROM:+0200
TZOFFSETTO:+0100
TZNAME:CET
DTSTART:20261025T010000
END:STANDARD
BEGIN:DAYLIGHT
TZOFFSETFROM:+0100
TZOFFSETTO:+0200
TZNAME:CEST
DTSTART:20270328T010000
END:DAYLIGHT
BEGIN:STANDARD
TZOFFSETFROM:+0200
TZOFFSETTO:+0100
TZNAME:CET
DTSTART:20271031T010000
END:STANDARD
END:VTIMEZONE
BEGIN:VEVENT
DTSTART;VALUE=DATE:20260523
DTEND;VALUE=DATE:20260608
DTSTAMP:20260424T131825
CREATED:20260323T091213Z
LAST-MODIFIED:20260323T091213Z
UID:5915-1779494400-1780876799@www.riedschule-karlsruhe.de
SUMMARY:Pfingstferien
DESCRIPTION:
URL:https://www.riedschule-karlsruhe.de/termin/pfingstferien-12/
CATEGORIES:Ferien/Unterrichtsfrei
END:VEVENT
BEGIN:VEVENT
DTSTART;VALUE=DATE:20260612
DTEND;VALUE=DATE:20260613
DTSTAMP:20260424T131825
CREATED:20260323T104450Z
LAST-MODIFIED:20260323T104450Z
UID:6032-1781222400-1781308799@www.riedschule-karlsruhe.de
SUMMARY:Bundesjugendspiele Ausweichtermin
DESCRIPTION:
URL:https://www.riedschule-karlsruhe.de/termin/bundesjugendspiele-ausweichtermin/
CATEGORIES:Schüler
END:VEVENT
BEGIN:VEVENT
DTSTART;VALUE=DATE:20260618
DTEND;VALUE=DATE:20260619
DTSTAMP:20260424T131825
CREATED:20260323T104523Z
LAST-MODIFIED:20260323T104523Z
UID:6034-1781740800-1781827199@www.riedschule-karlsruhe.de
SUMMARY:Kl.3a/b/c Schlossfestspiele Ettlingen
DESCRIPTION:
URL:https://www.riedschule-karlsruhe.de/termin/kl-3a-b-c-schlossfestspiele-ettlingen-2/
CATEGORIES:Schüler
END:VEVENT
BEGIN:VEVENT
DTSTART;VALUE=DATE:20260623
DTEND;VALUE=DATE:20260624
DTSTAMP:20260424T131825
CREATED:20260323T104615Z
LAST-MODIFIED:20260323T104615Z
UID:6036-1782172800-1782259199@www.riedschule-karlsruhe.de
SUMMARY:Kl.2a/b Waldtag
DESCRIPTION:
URL:https://www.riedschule-karlsruhe.de/termin/kl-2a-b-waldtag-6/
CATEGORIES:Schüler
END:VEVENT
BEGIN:VEVENT
DTSTART;VALUE=DATE:20260626
DTEND;VALUE=DATE:20260627
DTSTAMP:20260424T131825
CREATED:20260323T104653Z
LAST-MODIFIED:20260323T104653Z
UID:6038-1782432000-1782518399@www.riedschule-karlsruhe.de
SUMMARY:Kl.4a/b "6k United"
DESCRIPTION:
URL:https://www.riedschule-karlsruhe.de/termin/kl-4a-b-6k-united/
CATEGORIES:Schüler
END:VEVENT
END:VCALENDAR