BEGIN:VCALENDAR
VERSION:2.0
PRODID:-//Riedschule - ECPv6.15.17.1//NONSGML v1.0//EN
CALSCALE:GREGORIAN
METHOD:PUBLISH
X-WR-CALNAME:Riedschule
X-ORIGINAL-URL:https://www.riedschule-karlsruhe.de
X-WR-CALDESC:Veranstaltungen für Riedschule
REFRESH-INTERVAL;VALUE=DURATION:PT1H
X-Robots-Tag:noindex
X-PUBLISHED-TTL:PT1H
BEGIN:VTIMEZONE
TZID:Europe/Berlin
BEGIN:DAYLIGHT
TZOFFSETFROM:+0100
TZOFFSETTO:+0200
TZNAME:CEST
DTSTART:20250330T010000
END:DAYLIGHT
BEGIN:STANDARD
TZOFFSETFROM:+0200
TZOFFSETTO:+0100
TZNAME:CET
DTSTART:20251026T010000
END:STANDARD
BEGIN:DAYLIGHT
TZOFFSETFROM:+0100
TZOFFSETTO:+0200
TZNAME:CEST
DTSTART:20260329T010000
END:DAYLIGHT
BEGIN:STANDARD
TZOFFSETFROM:+0200
TZOFFSETTO:+0100
TZNAME:CET
DTSTART:20261025T010000
END:STANDARD
BEGIN:DAYLIGHT
TZOFFSETFROM:+0100
TZOFFSETTO:+0200
TZNAME:CEST
DTSTART:20270328T010000
END:DAYLIGHT
BEGIN:STANDARD
TZOFFSETFROM:+0200
TZOFFSETTO:+0100
TZNAME:CET
DTSTART:20271031T010000
END:STANDARD
END:VTIMEZONE
BEGIN:VEVENT
DTSTART;VALUE=DATE:20260206
DTEND;VALUE=DATE:20260207
DTSTAMP:20260424T132210
CREATED:20260323T101750Z
LAST-MODIFIED:20260323T101750Z
UID:5993-1770336000-1770422399@www.riedschule-karlsruhe.de
SUMMARY:Ausgabe HJ-Info und Grundschulempfehlung
DESCRIPTION:
URL:https://www.riedschule-karlsruhe.de/termin/ausgabe-hj-info-und-grundschulempfehlung/
CATEGORIES:Schüler
END:VEVENT
BEGIN:VEVENT
DTSTART;VALUE=DATE:20260211
DTEND;VALUE=DATE:20260212
DTSTAMP:20260424T132210
CREATED:20260323T101825Z
LAST-MODIFIED:20260323T101825Z
UID:5995-1770768000-1770854399@www.riedschule-karlsruhe.de
SUMMARY:Schulanmeldung
DESCRIPTION:
URL:https://www.riedschule-karlsruhe.de/termin/schulanmeldung/
CATEGORIES:Eltern
END:VEVENT
BEGIN:VEVENT
DTSTART;VALUE=DATE:20260214
DTEND;VALUE=DATE:20260223
DTSTAMP:20260424T132210
CREATED:20260323T091032Z
LAST-MODIFIED:20260323T091032Z
UID:5911-1771027200-1771804799@www.riedschule-karlsruhe.de
SUMMARY:Faschingsferien
DESCRIPTION:
URL:https://www.riedschule-karlsruhe.de/termin/faschingsferien-8/
CATEGORIES:Ferien/Unterrichtsfrei
END:VEVENT
BEGIN:VEVENT
DTSTART;VALUE=DATE:20260227
DTEND;VALUE=DATE:20260228
DTSTAMP:20260424T132210
CREATED:20260323T101910Z
LAST-MODIFIED:20260323T101910Z
UID:5997-1772150400-1772236799@www.riedschule-karlsruhe.de
SUMMARY:Kl.4a/b Jugendverkehrsschule
DESCRIPTION:Termin
URL:https://www.riedschule-karlsruhe.de/termin/kl-4a-b-jugendverkehrsschule-17/
CATEGORIES:Schüler
END:VEVENT
END:VCALENDAR