BEGIN:VCALENDAR
VERSION:2.0
PRODID:-//Riedschule - ECPv6.15.17.1//NONSGML v1.0//EN
CALSCALE:GREGORIAN
METHOD:PUBLISH
X-ORIGINAL-URL:https://www.riedschule-karlsruhe.de
X-WR-CALDESC:Veranstaltungen für Riedschule
REFRESH-INTERVAL;VALUE=DURATION:PT1H
X-Robots-Tag:noindex
X-PUBLISHED-TTL:PT1H
BEGIN:VTIMEZONE
TZID:Europe/Berlin
BEGIN:DAYLIGHT
TZOFFSETFROM:+0100
TZOFFSETTO:+0200
TZNAME:CEST
DTSTART:20240331T010000
END:DAYLIGHT
BEGIN:STANDARD
TZOFFSETFROM:+0200
TZOFFSETTO:+0100
TZNAME:CET
DTSTART:20241027T010000
END:STANDARD
BEGIN:DAYLIGHT
TZOFFSETFROM:+0100
TZOFFSETTO:+0200
TZNAME:CEST
DTSTART:20250330T010000
END:DAYLIGHT
BEGIN:STANDARD
TZOFFSETFROM:+0200
TZOFFSETTO:+0100
TZNAME:CET
DTSTART:20251026T010000
END:STANDARD
BEGIN:DAYLIGHT
TZOFFSETFROM:+0100
TZOFFSETTO:+0200
TZNAME:CEST
DTSTART:20260329T010000
END:DAYLIGHT
BEGIN:STANDARD
TZOFFSETFROM:+0200
TZOFFSETTO:+0100
TZNAME:CET
DTSTART:20261025T010000
END:STANDARD
END:VTIMEZONE
BEGIN:VEVENT
DTSTART;VALUE=DATE:20251025
DTEND;VALUE=DATE:20251103
DTSTAMP:20260424T173729
CREATED:20260323T090843Z
LAST-MODIFIED:20260323T090843Z
UID:5907-1761350400-1762127999@www.riedschule-karlsruhe.de
SUMMARY:Herbstferien
DESCRIPTION:
URL:https://www.riedschule-karlsruhe.de/termin/herbstferien-11/
CATEGORIES:Ferien/Unterrichtsfrei
END:VEVENT
BEGIN:VEVENT
DTSTART;VALUE=DATE:20251106
DTEND;VALUE=DATE:20251107
DTSTAMP:20260424T173729
CREATED:20260323T095647Z
LAST-MODIFIED:20260323T095647Z
UID:5947-1762387200-1762473599@www.riedschule-karlsruhe.de
SUMMARY:Kl.4a Kinderlabor
DESCRIPTION:
URL:https://www.riedschule-karlsruhe.de/termin/kl-4a-kinderlabor-2/
CATEGORIES:Schüler
END:VEVENT
BEGIN:VEVENT
DTSTART;TZID=Europe/Berlin:20251110T190000
DTEND;TZID=Europe/Berlin:20251110T203000
DTSTAMP:20260424T173729
CREATED:20260323T095745Z
LAST-MODIFIED:20260323T095745Z
UID:5949-1762801200-1762806600@www.riedschule-karlsruhe.de
SUMMARY:Kl.3a/b/c Elternabend "Werkzeugkoffer"
DESCRIPTION:
URL:https://www.riedschule-karlsruhe.de/termin/kl-3a-b-c-elternabend-werkzeugkoffer/
CATEGORIES:Eltern
END:VEVENT
BEGIN:VEVENT
DTSTART;TZID=Europe/Berlin:20251112T190000
DTEND;TZID=Europe/Berlin:20251112T200000
DTSTAMP:20260424T173729
CREATED:20260323T095827Z
LAST-MODIFIED:20260323T095827Z
UID:5951-1762974000-1762977600@www.riedschule-karlsruhe.de
SUMMARY:Schulkonferenz
DESCRIPTION:
URL:https://www.riedschule-karlsruhe.de/termin/schulkonferenz-5/
CATEGORIES:Eltern
END:VEVENT
BEGIN:VEVENT
DTSTART;VALUE=DATE:20251113
DTEND;VALUE=DATE:20251114
DTSTAMP:20260424T173729
CREATED:20260323T100404Z
LAST-MODIFIED:20260323T100404Z
UID:5957-1762992000-1763078399@www.riedschule-karlsruhe.de
SUMMARY:Kl.3a/b/c "Werkzeugkoffer" 1
DESCRIPTION:
URL:https://www.riedschule-karlsruhe.de/termin/kl-3a-b-c-werkzeugkoffer-1/
CATEGORIES:Schüler
END:VEVENT
BEGIN:VEVENT
DTSTART;VALUE=DATE:20251117
DTEND;VALUE=DATE:20251118
DTSTAMP:20260424T173729
CREATED:20260323T100516Z
LAST-MODIFIED:20260323T100516Z
UID:5959-1763337600-1763423999@www.riedschule-karlsruhe.de
SUMMARY:Kl.3a/b/c "Werkzeugkoffer" 2
DESCRIPTION:
URL:https://www.riedschule-karlsruhe.de/termin/kl-3a-b-c-werkzeugkoffer-2/
CATEGORIES:Schüler
END:VEVENT
BEGIN:VEVENT
DTSTART;TZID=Europe/Berlin:20251119T083500
DTEND;TZID=Europe/Berlin:20251119T092000
DTSTAMP:20260424T173729
CREATED:20260323T095945Z
LAST-MODIFIED:20260323T095945Z
UID:5953-1763541300-1763544000@www.riedschule-karlsruhe.de
SUMMARY:Kl.4a/b Kompass Deutsch
DESCRIPTION:
URL:https://www.riedschule-karlsruhe.de/termin/kl-4a-b-kompass-deutsch/
CATEGORIES:Schüler
END:VEVENT
BEGIN:VEVENT
DTSTART;VALUE=DATE:20251120
DTEND;VALUE=DATE:20251121
DTSTAMP:20260424T173729
CREATED:20260323T100036Z
LAST-MODIFIED:20260323T100036Z
UID:5955-1763596800-1763683199@www.riedschule-karlsruhe.de
SUMMARY:Kl.1a/b "Stark wie ein Löwe"
DESCRIPTION:
URL:https://www.riedschule-karlsruhe.de/termin/kl-1a-b-stark-wie-ein-loewe/
CATEGORIES:Schüler
END:VEVENT
BEGIN:VEVENT
DTSTART;VALUE=DATE:20251120
DTEND;VALUE=DATE:20251121
DTSTAMP:20260424T173729
CREATED:20260323T100642Z
LAST-MODIFIED:20260323T100642Z
UID:5963-1763596800-1763683199@www.riedschule-karlsruhe.de
SUMMARY:Kl.3a/b/c "Werkzeugkoffer" 3
DESCRIPTION:
URL:https://www.riedschule-karlsruhe.de/termin/kl-3a-b-c-werkzeugkoffer-3/
CATEGORIES:Schüler
END:VEVENT
BEGIN:VEVENT
DTSTART;VALUE=DATE:20251120
DTEND;VALUE=DATE:20251121
DTSTAMP:20260424T173729
CREATED:20260323T100710Z
LAST-MODIFIED:20260323T100710Z
UID:5965-1763596800-1763683199@www.riedschule-karlsruhe.de
SUMMARY:Kl.1a/b "Stark wie ein Löwe"
DESCRIPTION:
URL:https://www.riedschule-karlsruhe.de/termin/kl-1a-b-stark-wie-ein-loewe-2/
CATEGORIES:Schüler
END:VEVENT
BEGIN:VEVENT
DTSTART;TZID=Europe/Berlin:20251120T083500
DTEND;TZID=Europe/Berlin:20251120T092000
DTSTAMP:20260424T173729
CREATED:20260323T100610Z
LAST-MODIFIED:20260323T100610Z
UID:5961-1763627700-1763630400@www.riedschule-karlsruhe.de
SUMMARY:Kl.4a/b Kompass 4 Mathe
DESCRIPTION:
URL:https://www.riedschule-karlsruhe.de/termin/kl-4a-b-kompass-4-mathe/
CATEGORIES:Schüler
END:VEVENT
BEGIN:VEVENT
DTSTART;TZID=Europe/Berlin:20251126T083500
DTEND;TZID=Europe/Berlin:20251126T092000
DTSTAMP:20260424T173729
CREATED:20260323T100814Z
LAST-MODIFIED:20260323T100814Z
UID:5967-1764146100-1764148800@www.riedschule-karlsruhe.de
SUMMARY:Kl.4a/b Kompass 4 Deutsch (Nachtermin)
DESCRIPTION:
URL:https://www.riedschule-karlsruhe.de/termin/kl-4a-b-kompass-4-deutsch-nachtermin/
CATEGORIES:Schüler
END:VEVENT
BEGIN:VEVENT
DTSTART;TZID=Europe/Berlin:20251126T190000
DTEND;TZID=Europe/Berlin:20251126T210000
DTSTAMP:20260424T173729
CREATED:20260323T100920Z
LAST-MODIFIED:20260323T100920Z
UID:5969-1764183600-1764190800@www.riedschule-karlsruhe.de
SUMMARY:Kl.4a/b Infoabend weiterführende Schulen
DESCRIPTION:Der Infoabend findet an der Eichelgartenschule statt.
URL:https://www.riedschule-karlsruhe.de/termin/kl-4a-b-infoabend-weiterfuehrende-schulen/
CATEGORIES:Eltern
END:VEVENT
BEGIN:VEVENT
DTSTART;VALUE=DATE:20251127
DTEND;VALUE=DATE:20251128
DTSTAMP:20260424T173729
CREATED:20260323T100957Z
LAST-MODIFIED:20260323T100957Z
UID:5971-1764201600-1764287999@www.riedschule-karlsruhe.de
SUMMARY:Kl.1a/b "Stark wie ein Löwe"
DESCRIPTION:
URL:https://www.riedschule-karlsruhe.de/termin/kl-1a-b-stark-wie-ein-loewe-3/
CATEGORIES:Schüler
END:VEVENT
BEGIN:VEVENT
DTSTART;TZID=Europe/Berlin:20251127T083500
DTEND;TZID=Europe/Berlin:20251127T092000
DTSTAMP:20260424T173729
CREATED:20260323T101038Z
LAST-MODIFIED:20260323T101038Z
UID:5973-1764232500-1764235200@www.riedschule-karlsruhe.de
SUMMARY:Kl.4a/b Kompass 4 Mathe (Nachtermin)
DESCRIPTION:
URL:https://www.riedschule-karlsruhe.de/termin/kl-4a-b-kompass-4-mathe-nachtermin/
CATEGORIES:Schüler
END:VEVENT
END:VCALENDAR