BEGIN:VCALENDAR
VERSION:2.0
PRODID:-//Riedschule - ECPv6.15.17.1//NONSGML v1.0//EN
CALSCALE:GREGORIAN
METHOD:PUBLISH
X-ORIGINAL-URL:https://www.riedschule-karlsruhe.de
X-WR-CALDESC:Veranstaltungen für Riedschule
REFRESH-INTERVAL;VALUE=DURATION:PT1H
X-Robots-Tag:noindex
X-PUBLISHED-TTL:PT1H
BEGIN:VTIMEZONE
TZID:Europe/Berlin
BEGIN:DAYLIGHT
TZOFFSETFROM:+0100
TZOFFSETTO:+0200
TZNAME:CEST
DTSTART:20240331T010000
END:DAYLIGHT
BEGIN:STANDARD
TZOFFSETFROM:+0200
TZOFFSETTO:+0100
TZNAME:CET
DTSTART:20241027T010000
END:STANDARD
BEGIN:DAYLIGHT
TZOFFSETFROM:+0100
TZOFFSETTO:+0200
TZNAME:CEST
DTSTART:20250330T010000
END:DAYLIGHT
BEGIN:STANDARD
TZOFFSETFROM:+0200
TZOFFSETTO:+0100
TZNAME:CET
DTSTART:20251026T010000
END:STANDARD
BEGIN:DAYLIGHT
TZOFFSETFROM:+0100
TZOFFSETTO:+0200
TZNAME:CEST
DTSTART:20260329T010000
END:DAYLIGHT
BEGIN:STANDARD
TZOFFSETFROM:+0200
TZOFFSETTO:+0100
TZNAME:CET
DTSTART:20261025T010000
END:STANDARD
END:VTIMEZONE
BEGIN:VEVENT
DTSTART;VALUE=DATE:20251003
DTEND;VALUE=DATE:20251004
DTSTAMP:20260424T190408
CREATED:20260323T094629Z
LAST-MODIFIED:20260323T094629Z
UID:5925-1759449600-1759535999@www.riedschule-karlsruhe.de
SUMMARY:Tag der deutschen Einheit
DESCRIPTION:
URL:https://www.riedschule-karlsruhe.de/termin/tag-der-deutschen-einheit-2/
CATEGORIES:Ferien/Unterrichtsfrei
END:VEVENT
BEGIN:VEVENT
DTSTART;VALUE=DATE:20251008
DTEND;VALUE=DATE:20251009
DTSTAMP:20260424T190408
CREATED:20260323T095334Z
LAST-MODIFIED:20260323T095334Z
UID:5937-1759881600-1759967999@www.riedschule-karlsruhe.de
SUMMARY:Kl.3a "Vom Korn zum Brot"
DESCRIPTION:
URL:https://www.riedschule-karlsruhe.de/termin/kl-3a-vom-korn-zum-brot-2/
CATEGORIES:Schüler
END:VEVENT
BEGIN:VEVENT
DTSTART;VALUE=DATE:20251013
DTEND;VALUE=DATE:20251014
DTSTAMP:20260424T190408
CREATED:20260323T094900Z
LAST-MODIFIED:20260323T094900Z
UID:5927-1760313600-1760399999@www.riedschule-karlsruhe.de
SUMMARY:Kl.3c "Vom Korn zum Brot"
DESCRIPTION:
URL:https://www.riedschule-karlsruhe.de/termin/kl-3c-vom-korn-zum-brot/
CATEGORIES:Schüler
END:VEVENT
BEGIN:VEVENT
DTSTART;TZID=Europe/Berlin:20251014T190000
DTEND;TZID=Europe/Berlin:20251014T210000
DTSTAMP:20260424T190408
CREATED:20260323T095418Z
LAST-MODIFIED:20260323T095418Z
UID:5939-1760468400-1760475600@www.riedschule-karlsruhe.de
SUMMARY:Elternabende
DESCRIPTION:
URL:https://www.riedschule-karlsruhe.de/termin/elternabende-18/
CATEGORIES:Eltern
END:VEVENT
BEGIN:VEVENT
DTSTART;TZID=Europe/Berlin:20251015T190000
DTEND;TZID=Europe/Berlin:20251015T210000
DTSTAMP:20260424T190408
CREATED:20260323T095448Z
LAST-MODIFIED:20260323T095448Z
UID:5941-1760554800-1760562000@www.riedschule-karlsruhe.de
SUMMARY:Elternabende
DESCRIPTION:
URL:https://www.riedschule-karlsruhe.de/termin/elternabende-19/
CATEGORIES:Eltern
END:VEVENT
BEGIN:VEVENT
DTSTART;VALUE=DATE:20251021
DTEND;VALUE=DATE:20251022
DTSTAMP:20260424T190408
CREATED:20260323T095535Z
LAST-MODIFIED:20260323T095535Z
UID:5943-1761004800-1761091199@www.riedschule-karlsruhe.de
SUMMARY:Kl.2a/b Waldtag
DESCRIPTION:
URL:https://www.riedschule-karlsruhe.de/termin/kl-2a-b-waldtag-3/
CATEGORIES:Schüler
END:VEVENT
BEGIN:VEVENT
DTSTART;TZID=Europe/Berlin:20251023T190000
DTEND;TZID=Europe/Berlin:20251023T210000
DTSTAMP:20260424T190408
CREATED:20260323T095614Z
LAST-MODIFIED:20260323T095614Z
UID:5945-1761246000-1761253200@www.riedschule-karlsruhe.de
SUMMARY:Elternbeiratssitzung
DESCRIPTION:
URL:https://www.riedschule-karlsruhe.de/termin/elternbeiratssitzung-6/
CATEGORIES:Eltern
END:VEVENT
BEGIN:VEVENT
DTSTART;VALUE=DATE:20251025
DTEND;VALUE=DATE:20251103
DTSTAMP:20260424T190408
CREATED:20260323T090843Z
LAST-MODIFIED:20260323T090843Z
UID:5907-1761350400-1762127999@www.riedschule-karlsruhe.de
SUMMARY:Herbstferien
DESCRIPTION:
URL:https://www.riedschule-karlsruhe.de/termin/herbstferien-11/
CATEGORIES:Ferien/Unterrichtsfrei
END:VEVENT
END:VCALENDAR