BEGIN:VCALENDAR
VERSION:2.0
PRODID:-//Riedschule - ECPv6.15.17.1//NONSGML v1.0//EN
CALSCALE:GREGORIAN
METHOD:PUBLISH
X-ORIGINAL-URL:https://www.riedschule-karlsruhe.de
X-WR-CALDESC:Veranstaltungen für Riedschule
REFRESH-INTERVAL;VALUE=DURATION:PT1H
X-Robots-Tag:noindex
X-PUBLISHED-TTL:PT1H
BEGIN:VTIMEZONE
TZID:Europe/Berlin
BEGIN:DAYLIGHT
TZOFFSETFROM:+0100
TZOFFSETTO:+0200
TZNAME:CEST
DTSTART:20240331T010000
END:DAYLIGHT
BEGIN:STANDARD
TZOFFSETFROM:+0200
TZOFFSETTO:+0100
TZNAME:CET
DTSTART:20241027T010000
END:STANDARD
BEGIN:DAYLIGHT
TZOFFSETFROM:+0100
TZOFFSETTO:+0200
TZNAME:CEST
DTSTART:20250330T010000
END:DAYLIGHT
BEGIN:STANDARD
TZOFFSETFROM:+0200
TZOFFSETTO:+0100
TZNAME:CET
DTSTART:20251026T010000
END:STANDARD
BEGIN:DAYLIGHT
TZOFFSETFROM:+0100
TZOFFSETTO:+0200
TZNAME:CEST
DTSTART:20260329T010000
END:DAYLIGHT
BEGIN:STANDARD
TZOFFSETFROM:+0200
TZOFFSETTO:+0100
TZNAME:CET
DTSTART:20261025T010000
END:STANDARD
END:VTIMEZONE
BEGIN:VEVENT
DTSTART;VALUE=DATE:20250731
DTEND;VALUE=DATE:20250915
DTSTAMP:20260424T203017
CREATED:20240922T095925Z
LAST-MODIFIED:20240922T095925Z
UID:5443-1753920000-1757894399@www.riedschule-karlsruhe.de
SUMMARY:Sommerferien
DESCRIPTION:
URL:https://www.riedschule-karlsruhe.de/termin/sommerferien-12/
CATEGORIES:Ferien/Unterrichtsfrei
END:VEVENT
BEGIN:VEVENT
DTSTART;TZID=Europe/Berlin:20250917T190000
DTEND;TZID=Europe/Berlin:20250917T210000
DTSTAMP:20260424T203017
CREATED:20260323T095035Z
LAST-MODIFIED:20260323T095035Z
UID:5929-1758135600-1758142800@www.riedschule-karlsruhe.de
SUMMARY:Kl.1a/b Elternabend
DESCRIPTION:
URL:https://www.riedschule-karlsruhe.de/termin/kl-1a-b-elternabend-3/
CATEGORIES:Eltern
END:VEVENT
BEGIN:VEVENT
DTSTART;VALUE=DATE:20250920
DTEND;VALUE=DATE:20250921
DTSTAMP:20260424T203017
CREATED:20260323T095215Z
LAST-MODIFIED:20260323T095215Z
UID:5933-1758326400-1758412799@www.riedschule-karlsruhe.de
SUMMARY:Einschulung
DESCRIPTION:09:00 Uhr Klasse 1a \n11:00 Uhr Klasse 1b
URL:https://www.riedschule-karlsruhe.de/termin/einschulung-2/
CATEGORIES:Schüler
END:VEVENT
BEGIN:VEVENT
DTSTART;VALUE=DATE:20250924
DTEND;VALUE=DATE:20250927
DTSTAMP:20260424T203017
CREATED:20260323T095113Z
LAST-MODIFIED:20260323T095113Z
UID:5931-1758672000-1758931199@www.riedschule-karlsruhe.de
SUMMARY:Kl.4a/b Schullandheim
DESCRIPTION:
URL:https://www.riedschule-karlsruhe.de/termin/kl-4a-b-schullandheim/
CATEGORIES:Schüler
END:VEVENT
BEGIN:VEVENT
DTSTART;VALUE=DATE:20250929
DTEND;VALUE=DATE:20250930
DTSTAMP:20260424T203017
CREATED:20260323T095258Z
LAST-MODIFIED:20260323T095258Z
UID:5935-1759104000-1759190399@www.riedschule-karlsruhe.de
SUMMARY:Kl.3b "Vom Korn zum Brot"
DESCRIPTION:
URL:https://www.riedschule-karlsruhe.de/termin/kl-3b-vom-korn-zum-brot-2/
CATEGORIES:Schüler
END:VEVENT
END:VCALENDAR